BEGIN:VCALENDAR
VERSION:2.0
PRODID:-//ESSC - ECPv4.6.20//NONSGML v1.0//EN
CALSCALE:GREGORIAN
METHOD:PUBLISH
X-WR-CALNAME:ESSC
X-ORIGINAL-URL:http://essc.fr
X-WR-CALDESC:Events for ESSC
BEGIN:VEVENT
DTSTART;VALUE=DATE:20250927
DTEND;VALUE=DATE:20250928
DTSTAMP:20260423T093759
CREATED:20250829T091158Z
LAST-MODIFIED:20250829T091158Z
UID:1131-1758931200-1759017599@essc.fr
SUMMARY:Tournoi de Pétanque
DESCRIPTION:Concours de pétanque le 27 septembre 2025 en doublette formée.\n\nEngagement à 10h - une partie le matin et trois l'après-midi.\n\nBuvette et restauration sur place\n
URL:http://essc.fr/event/tournoi-de-petanque-7/
ATTACH;FMTTYPE=image/jpeg:http://essc.fr/wp-content/uploads/2025/08/Image-tournoi-pétanque-27092025.jpg
END:VEVENT
END:VCALENDAR